Workbook

Sheet Daten aus Stufe 1
A10: Tragen Sie hier bitte die vom Verein übermittelten Informationen ein. Bitte nur die Zellen mit grünem Hintergrund ausfüllen!
A13: Vorname | B13: Name | C13: Geburtsdatum | D13: Altersklasse | E13: Spielposition | F13: Ethnik | G13: Verein | H13: Spielklasse | I13: Landesverband | J13: Messdatum | K13: Uhrzeit der Messung | M13: Gewicht_1(kg) | N13: Gewicht_2(kg) | O13: Gewicht_3(kg) | P13: Gr_stehend_1(cm) | Q13: Gr_stehend_2(cm) | R13: Gr_stehend_3(cm) | S13: Gr_sitzend_1(cm) | T13: Gr_sitzend_2(cm) | U13: Gr_sitzend_3(cm) | W13: Beinlänge_1(cm) | X13: Beinlänge_2(cm) | Y13: Beinlänge_3(cm) | AA13: Kalendarisches Alter zum Messzeitpunkt | AB13: Gewicht_Av | AC13: Gr_stehend_Av | AD13: Gr_sitzend_Av | AE13: Beinlänge_Av | AG13: Mirwald_Maturity Offset | AH13: Biologisches Alter zum Messzeitpunkt | AJ13: Biologisches Alter zum Saisonbeginn | AK13: Antragsberechtigt (U14: <12J.) | AM13: Stichtag
A14: Maxi | B14: Musterfrau | C14: 41456 | D14: U14 | E14: TW | F14: Caucasian | G14: TSG Musterstadt | H14: Kreisliga | I14: Württemberg | J14: 46371 | K14: 0.29166667 | M14: 40.2 | N14: 40.3 | P14: 155.2 | Q14: 155.3 | S14: 71.2 | T14: 71.4 | W14: =IF(P14="","",P14-S14) -> 84 | X14: =IF(Q14="","",Q14-T14) -> 83.9 | Y14: =IF(U14="","",R14-U14) | AA14: =IF(C14="","",(J14-C14)/365.25) -> 13.456537 | AB14: =IF(C14="","",AVERAGE(M14:O14)) -> 40.25 | AC14: =IF(C14="","",AVERAGE(P14:R14)) -> 155.25 | AD14: =IF(C14="","",AVERAGE(S14:U14)) -> 71.3 | AE14: =IF(D14="","",AC14-AD14) -> 83.95 | AG14: =IF(AA14="","",-9.376+(0.0001882*AE14*AD14)+(0.0022*$AA14*AE14)+(0.005841*$AA14*AD14)-(0.002658*$AA14*AB14)+(0.07693*AB14/AC14*100)) -> 0.39477854 | AH14: =IF(AG14="","",AG14+12) -> 12.394779 | AJ14: =IF(AH14="","",AH14-((J14-$AM$14)/365.25)) -> 11.937557 | AK14: =IF(AJ14="","",IF(D14="U14",IF(AJ14<12,"Ja","Nein"),IF(D14="U16",IF(AJ14<14,"Ja","Nein")))) -> Ja | AM14: 46204
A15: Moritz | B15: Musterfrau | C15: 41395 | D15: U14 | E15: ST | F15: Caucasian | G15: TSG Adorf | H15: Verbandsliga | I15: Bremen | J15: 46397 | K15: 0.35416667 | M15: 60.3 | N15: 60.3 | P15: 161.9 | Q15: 162.4 | R15: 162.4 | S15: 80.2 | T15: 80.3 | W15: =IF(P15="","",P15-S15) -> 81.7 | X15: =IF(Q15="","",Q15-T15) -> 82.1 | Y15: =IF(U15="","",R15-U15) | AA15: =IF(C15="","",(J15-C15)/365.25) -> 13.69473 | AB15: =IF(C15="","",AVERAGE(M15:O15)) -> 60.3 | AC15: =IF(C15="","",AVERAGE(P15:R15)) -> 162.23333 | AD15: =IF(C15="","",AVERAGE(S15:U15)) -> 80.25 | AE15: =IF(D15="","",AC15-AD15) -> 81.983333 | AG15: =IF(AA15="","",-9.376+(0.0001882*AE15*AD15)+(0.0022*$AA15*AE15)+(0.005841*$AA15*AD15)-(0.002658*$AA15*AB15)+(0.07693*AB15/AC15*100)) -> 1.4159279 | AH15: =IF(AG15="","",AG15+12) -> 13.415928 | AJ15: =IF(AH15="","",AH15-((J15-$AM$14)/365.25)) -> 12.887523 | AK15: =IF(AJ15="","",IF(D15="U14",IF(AJ15<12,"Ja","Nein"),IF(D15="U16",IF(AJ15<14,"Ja","Nein")))) -> Nein
W16: =IF(P16="","",P16-S16) | X16: =IF(Q16="","",Q16-T16) | Y16: =IF(U16="","",R16-U16) | AA16: =IF(C16="","",(J16-C16)/365.25) | AB16: =IF(C16="","",AVERAGE(M16:O16)) | AC16: =IF(C16="","",AVERAGE(P16:R16)) | AD16: =IF(C16="","",AVERAGE(S16:U16)) | AE16: =IF(D16="","",AC16-AD16) | AG16: =IF(AA16="","",-9.376+(0.0001882*AE16*AD16)+(0.0022*$AA16*AE16)+(0.005841*$AA16*AD16)-(0.002658*$AA16*AB16)+(0.07693*AB16/AC16*100)) | AH16: =IF(AG16="","",AG16+12) | AJ16: =IF(AH16="","",AH16-((J16-$AM$14)/365.25)) | AK16: =IF(AJ16="","",IF(D16="U14",IF(AJ16<12,"Ja","Nein"),IF(D16="U16",IF(AJ16<14,"Ja","Nein"))))
W17: =IF(P17="","",P17-S17) | X17: =IF(Q17="","",Q17-T17) | Y17: =IF(U17="","",R17-U17) | AA17: =IF(C17="","",(J17-C17)/365.25) | AB17: =IF(C17="","",AVERAGE(M17:O17)) | AC17: =IF(C17="","",AVERAGE(P17:R17)) | AD17: =IF(C17="","",AVERAGE(S17:U17)) | AE17: =IF(D17="","",AC17-AD17) | AG17: =IF(AA17="","",-9.376+(0.0001882*AE17*AD17)+(0.0022*$AA17*AE17)+(0.005841*$AA17*AD17)-(0.002658*$AA17*AB17)+(0.07693*AB17/AC17*100)) | AH17: =IF(AG17="","",AG17+12) | AJ17: =IF(AH17="","",AH17-((J17-$AM$14)/365.25)) | AK17: =IF(AJ17="","",IF(D17="U14",IF(AJ17<12,"Ja","Nein"),IF(D17="U16",IF(AJ17<14,"Ja","Nein"))))
W18: =IF(P18="","",P18-S18) | X18: =IF(Q18="","",Q18-T18) | Y18: =IF(U18="","",R18-U18) | AA18: =IF(C18="","",(J18-C18)/365.25) | AB18: =IF(C18="","",AVERAGE(M18:O18)) | AC18: =IF(C18="","",AVERAGE(P18:R18)) | AD18: =IF(C18="","",AVERAGE(S18:U18)) | AE18: =IF(D18="","",AC18-AD18) | AG18: =IF(AA18="","",-9.376+(0.0001882*AE18*AD18)+(0.0022*$AA18*AE18)+(0.005841*$AA18*AD18)-(0.002658*$AA18*AB18)+(0.07693*AB18/AC18*100)) | AH18: =IF(AG18="","",AG18+12) | AJ18: =IF(AH18="","",AH18-((J18-$AM$14)/365.25)) | AK18: =IF(AJ18="","",IF(D18="U14",IF(AJ18<12,"Ja","Nein"),IF(D18="U16",IF(AJ18<14,"Ja","Nein"))))
W19: =IF(P19="","",P19-S19) | X19: =IF(Q19="","",Q19-T19) | Y19: =IF(U19="","",R19-U19) | AA19: =IF(C19="","",(J19-C19)/365.25) | AB19: =IF(C19="","",AVERAGE(M19:O19)) | AC19: =IF(C19="","",AVERAGE(P19:R19)) | AD19: =IF(C19="","",AVERAGE(S19:U19)) | AE19: =IF(D19="","",AC19-AD19) | AG19: =IF(AA19="","",-9.376+(0.0001882*AE19*AD19)+(0.0022*$AA19*AE19)+(0.005841*$AA19*AD19)-(0.002658*$AA19*AB19)+(0.07693*AB19/AC19*100)) | AH19: =IF(AG19="","",AG19+12) | AJ19: =IF(AH19="","",AH19-((J19-$AM$14)/365.25)) | AK19: =IF(AJ19="","",IF(D19="U14",IF(AJ19<12,"Ja","Nein"),IF(D19="U16",IF(AJ19<14,"Ja","Nein"))))
W20: =IF(P20="","",P20-S20) | X20: =IF(Q20="","",Q20-T20) | Y20: =IF(U20="","",R20-U20) | AA20: =IF(C20="","",(J20-C20)/365.25) | AB20: =IF(C20="","",AVERAGE(M20:O20)) | AC20: =IF(C20="","",AVERAGE(P20:R20)) | AD20: =IF(C20="","",AVERAGE(S20:U20)) | AE20: =IF(D20="","",AC20-AD20) | AG20: =IF(AA20="","",-9.376+(0.0001882*AE20*AD20)+(0.0022*$AA20*AE20)+(0.005841*$AA20*AD20)-(0.002658*$AA20*AB20)+(0.07693*AB20/AC20*100)) | AH20: =IF(AG20="","",AG20+12) | AJ20: =IF(AH20="","",AH20-((J20-$AM$14)/365.25)) | AK20: =IF(AJ20="","",IF(D20="U14",IF(AJ20<12,"Ja","Nein"),IF(D20="U16",IF(AJ20<14,"Ja","Nein"))))
W21: =IF(P21="","",P21-S21) | X21: =IF(Q21="","",Q21-T21) | Y21: =IF(U21="","",R21-U21) | AA21: =IF(C21="","",(J21-C21)/365.25) | AB21: =IF(C21="","",AVERAGE(M21:O21)) | AC21: =IF(C21="","",AVERAGE(P21:R21)) | AD21: =IF(C21="","",AVERAGE(S21:U21)) | AE21: =IF(D21="","",AC21-AD21) | AG21: =IF(AA21="","",-9.376+(0.0001882*AE21*AD21)+(0.0022*$AA21*AE21)+(0.005841*$AA21*AD21)-(0.002658*$AA21*AB21)+(0.07693*AB21/AC21*100)) | AH21: =IF(AG21="","",AG21+12) | AJ21: =IF(AH21="","",AH21-((J21-$AM$14)/365.25)) | AK21: =IF(AJ21="","",IF(D21="U14",IF(AJ21<12,"Ja","Nein"),IF(D21="U16",IF(AJ21<14,"Ja","Nein"))))
W22: =IF(P22="","",P22-S22) | X22: =IF(Q22="","",Q22-T22) | Y22: =IF(U22="","",R22-U22) | AA22: =IF(C22="","",(J22-C22)/365.25) | AB22: =IF(C22="","",AVERAGE(M22:O22)) | AC22: =IF(C22="","",AVERAGE(P22:R22)) | AD22: =IF(C22="","",AVERAGE(S22:U22)) | AE22: =IF(D22="","",AC22-AD22) | AG22: =IF(AA22="","",-9.376+(0.0001882*AE22*AD22)+(0.0022*$AA22*AE22)+(0.005841*$AA22*AD22)-(0.002658*$AA22*AB22)+(0.07693*AB22/AC22*100)) | AH22: =IF(AG22="","",AG22+12) | AJ22: =IF(AH22="","",AH22-((J22-$AM$14)/365.25)) | AK22: =IF(AJ22="","",IF(D22="U14",IF(AJ22<12,"Ja","Nein"),IF(D22="U16",IF(AJ22<14,"Ja","Nein"))))
W23: =IF(P23="","",P23-S23) | X23: =IF(Q23="","",Q23-T23) | Y23: =IF(U23="","",R23-U23) | AA23: =IF(C23="","",(J23-C23)/365.25) | AB23: =IF(C23="","",AVERAGE(M23:O23)) | AC23: =IF(C23="","",AVERAGE(P23:R23)) | AD23: =IF(C23="","",AVERAGE(S23:U23)) | AE23: =IF(D23="","",AC23-AD23) | AG23: =IF(AA23="","",-9.376+(0.0001882*AE23*AD23)+(0.0022*$AA23*AE23)+(0.005841*$AA23*AD23)-(0.002658*$AA23*AB23)+(0.07693*AB23/AC23*100)) | AH23: =IF(AG23="","",AG23+12) | AJ23: =IF(AH23="","",AH23-((J23-$AM$14)/365.25)) | AK23: =IF(AJ23="","",IF(D23="U14",IF(AJ23<12,"Ja","Nein"),IF(D23="U16",IF(AJ23<14,"Ja","Nein"))))
W24: =IF(P24="","",P24-S24) | X24: =IF(Q24="","",Q24-T24) | Y24: =IF(U24="","",R24-U24) | AA24: =IF(C24="","",(J24-C24)/365.25) | AB24: =IF(C24="","",AVERAGE(M24:O24)) | AC24: =IF(C24="","",AVERAGE(P24:R24)) | AD24: =IF(C24="","",AVERAGE(S24:U24)) | AE24: =IF(D24="","",AC24-AD24) | AG24: =IF(AA24="","",-9.376+(0.0001882*AE24*AD24)+(0.0022*$AA24*AE24)+(0.005841*$AA24*AD24)-(0.002658*$AA24*AB24)+(0.07693*AB24/AC24*100)) | AH24: =IF(AG24="","",AG24+12) | AJ24: =IF(AH24="","",AH24-((J24-$AM$14)/365.25)) | AK24: =IF(AJ24="","",IF(D24="U14",IF(AJ24<12,"Ja","Nein"),IF(D24="U16",IF(AJ24<14,"Ja","Nein"))))
W25: =IF(P25="","",P25-S25) | X25: =IF(Q25="","",Q25-T25) | Y25: =IF(U25="","",R25-U25) | AA25: =IF(C25="","",(J25-C25)/365.25) | AB25: =IF(C25="","",AVERAGE(M25:O25)) | AC25: =IF(C25="","",AVERAGE(P25:R25)) | AD25: =IF(C25="","",AVERAGE(S25:U25)) | AE25: =IF(D25="","",AC25-AD25) | AG25: =IF(AA25="","",-9.376+(0.0001882*AE25*AD25)+(0.0022*$AA25*AE25)+(0.005841*$AA25*AD25)-(0.002658*$AA25*AB25)+(0.07693*AB25/AC25*100)) | AH25: =IF(AG25="","",AG25+12) | AJ25: =IF(AH25="","",AH25-((J25-$AM$14)/365.25)) | AK25: =IF(AJ25="","",IF(D25="U14",IF(AJ25<12,"Ja","Nein"),IF(D25="U16",IF(AJ25<14,"Ja","Nein"))))
W26: =IF(P26="","",P26-S26) | X26: =IF(Q26="","",Q26-T26) | Y26: =IF(U26="","",R26-U26) | AA26: =IF(C26="","",(J26-C26)/365.25) | AB26: =IF(C26="","",AVERAGE(M26:O26)) | AC26: =IF(C26="","",AVERAGE(P26:R26)) | AD26: =IF(C26="","",AVERAGE(S26:U26)) | AE26: =IF(D26="","",AC26-AD26) | AG26: =IF(AA26="","",-9.376+(0.0001882*AE26*AD26)+(0.0022*$AA26*AE26)+(0.005841*$AA26*AD26)-(0.002658*$AA26*AB26)+(0.07693*AB26/AC26*100)) | AH26: =IF(AG26="","",AG26+12) | AJ26: =IF(AH26="","",AH26-((J26-$AM$14)/365.25)) | AK26: =IF(AJ26="","",IF(D26="U14",IF(AJ26<12,"Ja","Nein"),IF(D26="U16",IF(AJ26<14,"Ja","Nein"))))
W27: =IF(P27="","",P27-S27) | X27: =IF(Q27="","",Q27-T27) | Y27: =IF(U27="","",R27-U27) | AA27: =IF(C27="","",(J27-C27)/365.25) | AB27: =IF(C27="","",AVERAGE(M27:O27)) | AC27: =IF(C27="","",AVERAGE(P27:R27)) | AD27: =IF(C27="","",AVERAGE(S27:U27)) | AE27: =IF(D27="","",AC27-AD27) | AG27: =IF(AA27="","",-9.376+(0.0001882*AE27*AD27)+(0.0022*$AA27*AE27)+(0.005841*$AA27*AD27)-(0.002658*$AA27*AB27)+(0.07693*AB27/AC27*100)) | AH27: =IF(AG27="","",AG27+12) | AJ27: =IF(AH27="","",AH27-((J27-$AM$14)/365.25)) | AK27: =IF(AJ27="","",IF(D27="U14",IF(AJ27<12,"Ja","Nein"),IF(D27="U16",IF(AJ27<14,"Ja","Nein"))))
... W150: =IF(P150="","",P150-S150) | X150: =IF(Q150="","",Q150-T150) | Y150: =IF(U150="","",R150-U150) | AA150: =IF(C150="","",(J150-C150)/365.25) | AB150: =IF(C150="","",AVERAGE(M150:O150)) | AC150: =IF(C150="","",AVERAGE(P150:R150)) | AD150: =IF(C150="","",AVERAGE(S150:U150)) | AE150: =IF(D150="","",AC150-AD150) | AG150: =IF(AA150="","",-9.376+(0.0001882*AE150*AD150)+(0.0022*$AA150*AE150)+(0.005841*$AA150*AD150)-(0.002658*$AA150*AB150)+(0.07693*AB150/AC150*100)) | AH150: =IF(AG150="","",AG150+12) | AJ150: =IF(AH150="","",AH150-((J150-$AM$14)/365.25)) | AK150: =IF(AJ150="","",IF(D150="U14",IF(AJ150<12,"Ja","Nein"),IF(D150="U16",IF(AJ150<14,"Ja","Nein"))))

Sheet Daten aus Stufe 2
A10: Nur die Zellen mit grünem Hintergrund ausfüllen!
A11: Spielerinformationen (werden automoatisch aus Stufe 1 übertragen) | J11: Messungen/Ergebnisse Testleiter 1 | AQ11: Messungen/Ergebnisse Testleiter 2 | BW11: Gesamtergebnis
A13: Vorname | B13: Name | C13: Geburtsdatum | D13: Altersklasse | E13: Spielposition | F13: Ethnik | G13: Verein | H13: Spielklasse | I13: Landesverband | J13: Name Testleiter 1 LV | K13: Vorname Testleiter 1 LV | L13: Funktion im LV Testleiter 1 | M13: Messdatum (Stufe 2) | N13: Uhrzeit der Messung (Stufe 2) | P13: Gewicht_1(kg) | Q13: Gewicht_2(kg) | R13: Gewicht_3(kg) | S13: Gr_stehend_1(cm) | T13: Gr_stehend_2(cm) | U13: Gr_stehend_3(cm) | V13: Gr_sitzend_1(cm) | W13: Gr_sitzend_2(cm) | X13: Gr_sitzend_3(cm) | Z13: Beinlänge_1(cm) | AA13: Beinlänge_2(cm) | AB13: Beinlänge_3(cm) | AD13: Kalendarisches Alter zum Messzeitpunkt | AE13: Gewicht_Av | AF13: Gr_stehend_Av | AG13: Gr_sitzend_Av | AH13: Beinlänge_Av | AJ13: Mirwald_Maturity Offset | AK13: Biologisches Alter zum Messzeitpunkt | AM13: Biologisches Alter zum Saisonbeginn | AN13: Antragsberechtigt (U14: <12J.) | AP13: Stichtag | AQ13: Name Testleiter 2 LV | AR13: Vorname Testleiter 2 LV | AS13: Funktion im LV Testleiter 2 | AT13: Messdatum (Stufe 2) | AU13: Uhrzeit der Messung (Stufe 2) | AW13: Gewicht_1(kg) | AX13: Gewicht_2(kg) | AY13: Gewicht_3(kg) | AZ13: Gr_stehend_1(cm) | BA13: Gr_stehend_2(cm) | BB13: Gr_stehend_3(cm) | BC13: Gr_sitzend_1(cm) | BD13: Gr_sitzend_2(cm) | BE13: Gr_sitzend_3(cm) | BG13: Beinlänge_1(cm) | BH13: Beinlänge_2(cm) | BI13: Beinlänge_3(cm) | BK13: Kalendarisches Alter zum Messzeitpunkt | BL13: Gewicht_Av | BM13: Gr_stehend_Av | BN13: Gr_sitzend_Av | BO13: Beinlänge_Av | BQ13: Mirwald_Maturity Offset | BR13: Biologisches Alter zum Messzeitpunkt | BT13: Biologisches Alter zum Saisonbeginn | BU13: Antragsberechtigt (U14: <12J.) | BW13: Antrag genehmigen?
A14: =IF('Daten aus Stufe 1'!A14="","",'Daten aus Stufe 1'!A14) -> Maxi | B14: =IF('Daten aus Stufe 1'!B14="","",'Daten aus Stufe 1'!B14) -> Musterfrau | C14: =IF('Daten aus Stufe 1'!C14="","",'Daten aus Stufe 1'!C14) -> 41456 | D14: =IF('Daten aus Stufe 1'!D14="","",'Daten aus Stufe 1'!D14) -> U14 | E14: =IF('Daten aus Stufe 1'!E14="","",'Daten aus Stufe 1'!E14) -> TW | F14: =IF('Daten aus Stufe 1'!F14="","",'Daten aus Stufe 1'!F14) -> Caucasian | G14: =IF('Daten aus Stufe 1'!G14="","",'Daten aus Stufe 1'!G14) -> TSG Musterstadt | H14: =IF('Daten aus Stufe 1'!H14="","",'Daten aus Stufe 1'!H14) -> Kreisliga | I14: =IF('Daten aus Stufe 1'!I14="","",'Daten aus Stufe 1'!I14) -> Württemberg | J14: Testmann | K14: Manfred | L14: Verbandssportlehrer | M14: 46419 | N14: 0.29166667 | P14: 40.2 | Q14: 40.3 | S14: 155.2 | T14: 155.3 | V14: 71.2 | W14: 71.4 | Z14: =IF(S14="","",S14-V14) -> 84 | AA14: =IF(T14="","",T14-W14) -> 83.9 | AB14: =IF(X14="","",U14-X14) | AD14: =IF(C14="","",(M14-C14)/365.25) -> 13.587953 | AE14: =IF(C14="","",AVERAGE(P14:R14)) -> 40.25 | AF14: =IF(C14="","",AVERAGE(S14:U14)) -> 155.25 | AG14: =IF(C14="","",AVERAGE(V14:X14)) -> 71.3 | AH14: =IF(D14="","",AF14-AG14) -> 83.95 | AJ14: =IF(AA14="","",-9.376+(0.0001882*AH14*AG14)+(0.0022*$AD14*AH14)+(0.005841*$AD14*AG14)-(0.002658*$AD14*AE14)+(0.07693*AE14/AF14*100)) -> 0.45972064 | AK14: =IF(AJ14="","",AJ14+12) -> 12.459721 | AM14: =IF(AK14="","",AK14-((M14-$AP$14)/365.25)) -> 11.871083 | AN14: =IF(AM14="","",IF(D14="U14",IF(AM14<12,"Ja","Nein"),IF(D14="U16",IF(AM14<14,"Ja","Nein")))) -> Ja | AP14: 46204 | AQ14: Testerfreund | AR14: Klaus | AS14: Mitarbeiter Spielbetrieb | AT14: 46419 | AU14: 0.29166667 | AW14: 40.5 | AX14: 40.8 | AZ14: 155.5 | BA14: 155.7 | BC14: 71.1 | BD14: 71.3 | BG14: =IF(AZ14="","",AZ14-BC14) -> 84.4 | BH14: =IF(BA14="","",BA14-BD14) -> 84.4 | BI14: =IF(BE14="","",BB14-BE14) | BK14: =IF(AJ14="","",(AT14-C14)/365.25) -> 13.587953 | BL14: =IF(AJ14="","",AVERAGE(AW14:AY14)) -> 40.65 | BM14: =IF(AJ14="","",AVERAGE(AZ14:BB14)) -> 155.6 | BN14: =IF(AJ14="","",AVERAGE(BC14:BE14)) -> 71.2 | BO14: =IF(AK14="","",BM14-BN14) -> 84.4 | BQ14: =IF(AA14="","",-9.376+(0.0001882*BO14*BN14)+(0.0022*$AD14*BO14)+(0.005841*$AD14*BN14)-(0.002658*$AD14*BL14)+(0.07693*BL14/BM14*100)) -> 0.47052932 | BR14: =IF(BQ14="","",BQ14+12) -> 12.470529 | BT14: =IF(BR14="","",BR14-((AT14-$AP$14)/365.25)) -> 11.881891 | BU14: =IF(BT14="","",IF(D14="U14",IF(BT14<12,"Ja","Nein"),IF(D14="U16",IF(BT14<14,"Ja","Nein")))) -> Ja | BW14: =IF(BU14="","",IF(AN14="Ja",IF(BU14="Ja","Ja","Nein"),"Nein")) -> Ja
A15: =IF('Daten aus Stufe 1'!A15="","",'Daten aus Stufe 1'!A15) -> Moritz | B15: =IF('Daten aus Stufe 1'!B15="","",'Daten aus Stufe 1'!B15) -> Musterfrau | C15: =IF('Daten aus Stufe 1'!C15="","",'Daten aus Stufe 1'!C15) -> 41395 | D15: =IF('Daten aus Stufe 1'!D15="","",'Daten aus Stufe 1'!D15) -> U14 | E15: =IF('Daten aus Stufe 1'!E15="","",'Daten aus Stufe 1'!E15) -> ST | F15: =IF('Daten aus Stufe 1'!F15="","",'Daten aus Stufe 1'!F15) -> Caucasian | G15: =IF('Daten aus Stufe 1'!G15="","",'Daten aus Stufe 1'!G15) -> TSG Adorf | H15: =IF('Daten aus Stufe 1'!H15="","",'Daten aus Stufe 1'!H15) -> Verbandsliga | I15: =IF('Daten aus Stufe 1'!I15="","",'Daten aus Stufe 1'!I15) -> Bremen | J15: Testfrau | K15: Sibille | L15: Orga | M15: 46419 | N15: 0.30208333 | P15: 60.3 | Q15: 60.3 | S15: 161.9 | T15: 162.4 | U15: 162.4 | V15: 80.2 | W15: 80.3 | Z15: =IF(S15="","",S15-V15) -> 81.7 | AA15: =IF(T15="","",T15-W15) -> 82.1 | AB15: =IF(X15="","",U15-X15) | AD15: =IF(C15="","",(M15-C15)/365.25) -> 13.754962 | AE15: =IF(C15="","",AVERAGE(P15:R15)) -> 60.3 | AF15: =IF(C15="","",AVERAGE(S15:U15)) -> 162.23333 | AG15: =IF(C15="","",AVERAGE(V15:X15)) -> 80.25 | AH15: =IF(D15="","",AF15-AG15) -> 81.983333 | AJ15: =IF(AA15="","",-9.376+(0.0001882*AH15*AG15)+(0.0022*$AD15*AH15)+(0.005841*$AD15*AG15)-(0.002658*$AD15*AE15)+(0.07693*AE15/AF15*100)) -> 1.4453712 | AK15: =IF(AJ15="","",AJ15+12) -> 13.445371 | AM15: =IF(AK15="","",AK15-((M15-$AP$14)/365.25)) -> 12.856733 | AN15: =IF(AM15="","",IF(D15="U14",IF(AM15<12,"Ja","Nein"),IF(D15="U16",IF(AM15<14,"Ja","Nein")))) -> Nein | AQ15: Tester | AR15: Mia | AS15: Mitarbeiterin Spielbetrieb | AT15: 46419 | AU15: 0.3125 | AW15: 60.4 | AX15: 60.4 | AZ15: 162.5 | BA15: 162.6 | BC15: 80.5 | BD15: 80.5 | BG15: =IF(AZ15="","",AZ15-BC15) -> 82 | BH15: =IF(BA15="","",BA15-BD15) -> 82.1 | BI15: =IF(BE15="","",BB15-BE15) | BK15: =IF(AJ15="","",(AT15-C15)/365.25) -> 13.754962 | BL15: =IF(AJ15="","",AVERAGE(AW15:AY15)) -> 60.4 | BM15: =IF(AJ15="","",AVERAGE(AZ15:BB15)) -> 162.55 | BN15: =IF(AJ15="","",AVERAGE(BC15:BE15)) -> 80.5 | BO15: =IF(AK15="","",BM15-BN15) -> 82.05 | BQ15: =IF(AA15="","",-9.376+(0.0001882*BO15*BN15)+(0.0022*$AD15*BO15)+(0.005841*$AD15*BN15)-(0.002658*$AD15*BL15)+(0.07693*BL15/BM15*100)) -> 1.4678478 | BR15: =IF(BQ15="","",BQ15+12) -> 13.467848 | BT15: =IF(BR15="","",BR15-((AT15-$AP$14)/365.25)) -> 12.87921 | BU15: =IF(BT15="","",IF(D15="U14",IF(BT15<12,"Ja","Nein"),IF(D15="U16",IF(BT15<14,"Ja","Nein")))) -> Nein | BW15: =IF(BU15="","",IF(AN15="Ja",IF(BU15="Ja","Ja","Nein"),"Nein")) -> Nein
A16: =IF('Daten aus Stufe 1'!A16="","",'Daten aus Stufe 1'!A16) | B16: =IF('Daten aus Stufe 1'!B16="","",'Daten aus Stufe 1'!B16) | C16: =IF('Daten aus Stufe 1'!C16="","",'Daten aus Stufe 1'!C16) | D16: =IF('Daten aus Stufe 1'!D16="","",'Daten aus Stufe 1'!D16) | E16: =IF('Daten aus Stufe 1'!E16="","",'Daten aus Stufe 1'!E16) | F16: =IF('Daten aus Stufe 1'!F16="","",'Daten aus Stufe 1'!F16) | G16: =IF('Daten aus Stufe 1'!G16="","",'Daten aus Stufe 1'!G16) | H16: =IF('Daten aus Stufe 1'!H16="","",'Daten aus Stufe 1'!H16) | I16: =IF('Daten aus Stufe 1'!I16="","",'Daten aus Stufe 1'!I16) | Z16: =IF(S16="","",S16-V16) | AA16: =IF(T16="","",T16-W16) | AB16: =IF(X16="","",U16-X16) | AD16: =IF(C16="","",(M16-C16)/365.25) | AE16: =IF(C16="","",AVERAGE(P16:R16)) | AF16: =IF(C16="","",AVERAGE(S16:U16)) | AG16: =IF(C16="","",AVERAGE(V16:X16)) | AH16: =IF(D16="","",AF16-AG16) | AJ16: =IF(AA16="","",-9.376+(0.0001882*AH16*AG16)+(0.0022*$AD16*AH16)+(0.005841*$AD16*AG16)-(0.002658*$AD16*AE16)+(0.07693*AE16/AF16*100)) | AK16: =IF(AJ16="","",AJ16+12) | AM16: =IF(AK16="","",AK16-((M16-$AP$14)/365.25)) | AN16: =IF(AM16="","",IF(D16="U14",IF(AM16<12,"Ja","Nein"),IF(D16="U16",IF(AM16<14,"Ja","Nein")))) | BG16: =IF(AZ16="","",AZ16-BC16) | BH16: =IF(BA16="","",BA16-BD16) | BI16: =IF(BE16="","",BB16-BE16) | BK16: =IF(AJ16="","",(AT16-C16)/365.25) | BL16: =IF(AJ16="","",AVERAGE(AW16:AY16)) | BM16: =IF(AJ16="","",AVERAGE(AZ16:BB16)) | BN16: =IF(AJ16="","",AVERAGE(BC16:BE16)) | BO16: =IF(AK16="","",BM16-BN16) | BQ16: =IF(AA16="","",-9.376+(0.0001882*BO16*BN16)+(0.0022*$AD16*BO16)+(0.005841*$AD16*BN16)-(0.002658*$AD16*BL16)+(0.07693*BL16/BM16*100)) | BR16: =IF(BQ16="","",BQ16+12) | BT16: =IF(BR16="","",BR16-((AT16-$AP$14)/365.25)) | BU16: =IF(BT16="","",IF(D16="U14",IF(BT16<12,"Ja","Nein"),IF(D16="U16",IF(BT16<14,"Ja","Nein")))) | BW16: =IF(BU16="","",IF(AN16="Ja",IF(BU16="Ja","Ja","Nein"),"Nein"))
A17: =IF('Daten aus Stufe 1'!A17="","",'Daten aus Stufe 1'!A17) | B17: =IF('Daten aus Stufe 1'!B17="","",'Daten aus Stufe 1'!B17) | C17: =IF('Daten aus Stufe 1'!C17="","",'Daten aus Stufe 1'!C17) | D17: =IF('Daten aus Stufe 1'!D17="","",'Daten aus Stufe 1'!D17) | E17: =IF('Daten aus Stufe 1'!E17="","",'Daten aus Stufe 1'!E17) | F17: =IF('Daten aus Stufe 1'!F17="","",'Daten aus Stufe 1'!F17) | G17: =IF('Daten aus Stufe 1'!G17="","",'Daten aus Stufe 1'!G17) | H17: =IF('Daten aus Stufe 1'!H17="","",'Daten aus Stufe 1'!H17) | I17: =IF('Daten aus Stufe 1'!I17="","",'Daten aus Stufe 1'!I17) | Z17: =IF(S17="","",S17-V17) | AA17: =IF(T17="","",T17-W17) | AB17: =IF(X17="","",U17-X17) | AD17: =IF(C17="","",(M17-C17)/365.25) | AE17: =IF(C17="","",AVERAGE(P17:R17)) | AF17: =IF(C17="","",AVERAGE(S17:U17)) | AG17: =IF(C17="","",AVERAGE(V17:X17)) | AH17: =IF(D17="","",AF17-AG17) | AJ17: =IF(AA17="","",-9.376+(0.0001882*AH17*AG17)+(0.0022*$AD17*AH17)+(0.005841*$AD17*AG17)-(0.002658*$AD17*AE17)+(0.07693*AE17/AF17*100)) | AK17: =IF(AJ17="","",AJ17+12) | AM17: =IF(AK17="","",AK17-((M17-$AP$14)/365.25)) | AN17: =IF(AM17="","",IF(D17="U14",IF(AM17<12,"Ja","Nein"),IF(D17="U16",IF(AM17<14,"Ja","Nein")))) | BG17: =IF(AZ17="","",AZ17-BC17) | BH17: =IF(BA17="","",BA17-BD17) | BI17: =IF(BE17="","",BB17-BE17) | BK17: =IF(AJ17="","",(AT17-C17)/365.25) | BL17: =IF(AJ17="","",AVERAGE(AW17:AY17)) | BM17: =IF(AJ17="","",AVERAGE(AZ17:BB17)) | BN17: =IF(AJ17="","",AVERAGE(BC17:BE17)) | BO17: =IF(AK17="","",BM17-BN17) | BQ17: =IF(AA17="","",-9.376+(0.0001882*BO17*BN17)+(0.0022*$AD17*BO17)+(0.005841*$AD17*BN17)-(0.002658*$AD17*BL17)+(0.07693*BL17/BM17*100)) | BR17: =IF(BQ17="","",BQ17+12) | BT17: =IF(BR17="","",BR17-((AT17-$AP$14)/365.25)) | BU17: =IF(BT17="","",IF(D17="U14",IF(BT17<12,"Ja","Nein"),IF(D17="U16",IF(BT17<14,"Ja","Nein")))) | BW17: =IF(BU17="","",IF(AN17="Ja",IF(BU17="Ja","Ja","Nein"),"Nein"))
A18: =IF('Daten aus Stufe 1'!A18="","",'Daten aus Stufe 1'!A18) | B18: =IF('Daten aus Stufe 1'!B18="","",'Daten aus Stufe 1'!B18) | C18: =IF('Daten aus Stufe 1'!C18="","",'Daten aus Stufe 1'!C18) | D18: =IF('Daten aus Stufe 1'!D18="","",'Daten aus Stufe 1'!D18) | E18: =IF('Daten aus Stufe 1'!E18="","",'Daten aus Stufe 1'!E18) | F18: =IF('Daten aus Stufe 1'!F18="","",'Daten aus Stufe 1'!F18) | G18: =IF('Daten aus Stufe 1'!G18="","",'Daten aus Stufe 1'!G18) | H18: =IF('Daten aus Stufe 1'!H18="","",'Daten aus Stufe 1'!H18) | I18: =IF('Daten aus Stufe 1'!I18="","",'Daten aus Stufe 1'!I18) | Z18: =IF(S18="","",S18-V18) | AA18: =IF(T18="","",T18-W18) | AB18: =IF(X18="","",U18-X18) | AD18: =IF(C18="","",(M18-C18)/365.25) | AE18: =IF(C18="","",AVERAGE(P18:R18)) | AF18: =IF(C18="","",AVERAGE(S18:U18)) | AG18: =IF(C18="","",AVERAGE(V18:X18)) | AH18: =IF(D18="","",AF18-AG18) | AJ18: =IF(AA18="","",-9.376+(0.0001882*AH18*AG18)+(0.0022*$AD18*AH18)+(0.005841*$AD18*AG18)-(0.002658*$AD18*AE18)+(0.07693*AE18/AF18*100)) | AK18: =IF(AJ18="","",AJ18+12) | AM18: =IF(AK18="","",AK18-((M18-$AP$14)/365.25)) | AN18: =IF(AM18="","",IF(D18="U14",IF(AM18<12,"Ja","Nein"),IF(D18="U16",IF(AM18<14,"Ja","Nein")))) | BG18: =IF(AZ18="","",AZ18-BC18) | BH18: =IF(BA18="","",BA18-BD18) | BI18: =IF(BE18="","",BB18-BE18) | BK18: =IF(AJ18="","",(AT18-C18)/365.25) | BL18: =IF(AJ18="","",AVERAGE(AW18:AY18)) | BM18: =IF(AJ18="","",AVERAGE(AZ18:BB18)) | BN18: =IF(AJ18="","",AVERAGE(BC18:BE18)) | BO18: =IF(AK18="","",BM18-BN18) | BQ18: =IF(AA18="","",-9.376+(0.0001882*BO18*BN18)+(0.0022*$AD18*BO18)+(0.005841*$AD18*BN18)-(0.002658*$AD18*BL18)+(0.07693*BL18/BM18*100)) | BR18: =IF(BQ18="","",BQ18+12) | BT18: =IF(BR18="","",BR18-((AT18-$AP$14)/365.25)) | BU18: =IF(BT18="","",IF(D18="U14",IF(BT18<12,"Ja","Nein"),IF(D18="U16",IF(BT18<14,"Ja","Nein")))) | BW18: =IF(BU18="","",IF(AN18="Ja",IF(BU18="Ja","Ja","Nein"),"Nein"))
A19: =IF('Daten aus Stufe 1'!A19="","",'Daten aus Stufe 1'!A19) | B19: =IF('Daten aus Stufe 1'!B19="","",'Daten aus Stufe 1'!B19) | C19: =IF('Daten aus Stufe 1'!C19="","",'Daten aus Stufe 1'!C19) | D19: =IF('Daten aus Stufe 1'!D19="","",'Daten aus Stufe 1'!D19) | E19: =IF('Daten aus Stufe 1'!E19="","",'Daten aus Stufe 1'!E19) | F19: =IF('Daten aus Stufe 1'!F19="","",'Daten aus Stufe 1'!F19) | G19: =IF('Daten aus Stufe 1'!G19="","",'Daten aus Stufe 1'!G19) | H19: =IF('Daten aus Stufe 1'!H19="","",'Daten aus Stufe 1'!H19) | I19: =IF('Daten aus Stufe 1'!I19="","",'Daten aus Stufe 1'!I19) | Z19: =IF(S19="","",S19-V19) | AA19: =IF(T19="","",T19-W19) | AB19: =IF(X19="","",U19-X19) | AD19: =IF(C19="","",(M19-C19)/365.25) | AE19: =IF(C19="","",AVERAGE(P19:R19)) | AF19: =IF(C19="","",AVERAGE(S19:U19)) | AG19: =IF(C19="","",AVERAGE(V19:X19)) | AH19: =IF(D19="","",AF19-AG19) | AJ19: =IF(AA19="","",-9.376+(0.0001882*AH19*AG19)+(0.0022*$AD19*AH19)+(0.005841*$AD19*AG19)-(0.002658*$AD19*AE19)+(0.07693*AE19/AF19*100)) | AK19: =IF(AJ19="","",AJ19+12) | AM19: =IF(AK19="","",AK19-((M19-$AP$14)/365.25)) | AN19: =IF(AM19="","",IF(D19="U14",IF(AM19<12,"Ja","Nein"),IF(D19="U16",IF(AM19<14,"Ja","Nein")))) | BG19: =IF(AZ19="","",AZ19-BC19) | BH19: =IF(BA19="","",BA19-BD19) | BI19: =IF(BE19="","",BB19-BE19) | BK19: =IF(AJ19="","",(AT19-C19)/365.25) | BL19: =IF(AJ19="","",AVERAGE(AW19:AY19)) | BM19: =IF(AJ19="","",AVERAGE(AZ19:BB19)) | BN19: =IF(AJ19="","",AVERAGE(BC19:BE19)) | BO19: =IF(AK19="","",BM19-BN19) | BQ19: =IF(AA19="","",-9.376+(0.0001882*BO19*BN19)+(0.0022*$AD19*BO19)+(0.005841*$AD19*BN19)-(0.002658*$AD19*BL19)+(0.07693*BL19/BM19*100)) | BR19: =IF(BQ19="","",BQ19+12) | BT19: =IF(BR19="","",BR19-((AT19-$AP$14)/365.25)) | BU19: =IF(BT19="","",IF(D19="U14",IF(BT19<12,"Ja","Nein"),IF(D19="U16",IF(BT19<14,"Ja","Nein")))) | BW19: =IF(BU19="","",IF(AN19="Ja",IF(BU19="Ja","Ja","Nein"),"Nein"))
A20: =IF('Daten aus Stufe 1'!A20="","",'Daten aus Stufe 1'!A20) | B20: =IF('Daten aus Stufe 1'!B20="","",'Daten aus Stufe 1'!B20) | C20: =IF('Daten aus Stufe 1'!C20="","",'Daten aus Stufe 1'!C20) | D20: =IF('Daten aus Stufe 1'!D20="","",'Daten aus Stufe 1'!D20) | E20: =IF('Daten aus Stufe 1'!E20="","",'Daten aus Stufe 1'!E20) | F20: =IF('Daten aus Stufe 1'!F20="","",'Daten aus Stufe 1'!F20) | G20: =IF('Daten aus Stufe 1'!G20="","",'Daten aus Stufe 1'!G20) | H20: =IF('Daten aus Stufe 1'!H20="","",'Daten aus Stufe 1'!H20) | I20: =IF('Daten aus Stufe 1'!I20="","",'Daten aus Stufe 1'!I20) | Z20: =IF(S20="","",S20-V20) | AA20: =IF(T20="","",T20-W20) | AB20: =IF(X20="","",U20-X20) | AD20: =IF(C20="","",(M20-C20)/365.25) | AE20: =IF(C20="","",AVERAGE(P20:R20)) | AF20: =IF(C20="","",AVERAGE(S20:U20)) | AG20: =IF(C20="","",AVERAGE(V20:X20)) | AH20: =IF(D20="","",AF20-AG20) | AJ20: =IF(AA20="","",-9.376+(0.0001882*AH20*AG20)+(0.0022*$AD20*AH20)+(0.005841*$AD20*AG20)-(0.002658*$AD20*AE20)+(0.07693*AE20/AF20*100)) | AK20: =IF(AJ20="","",AJ20+12) | AM20: =IF(AK20="","",AK20-((M20-$AP$14)/365.25)) | AN20: =IF(AM20="","",IF(D20="U14",IF(AM20<12,"Ja","Nein"),IF(D20="U16",IF(AM20<14,"Ja","Nein")))) | BG20: =IF(AZ20="","",AZ20-BC20) | BH20: =IF(BA20="","",BA20-BD20) | BI20: =IF(BE20="","",BB20-BE20) | BK20: =IF(AJ20="","",(AT20-C20)/365.25) | BL20: =IF(AJ20="","",AVERAGE(AW20:AY20)) | BM20: =IF(AJ20="","",AVERAGE(AZ20:BB20)) | BN20: =IF(AJ20="","",AVERAGE(BC20:BE20)) | BO20: =IF(AK20="","",BM20-BN20) | BQ20: =IF(AA20="","",-9.376+(0.0001882*BO20*BN20)+(0.0022*$AD20*BO20)+(0.005841*$AD20*BN20)-(0.002658*$AD20*BL20)+(0.07693*BL20/BM20*100)) | BR20: =IF(BQ20="","",BQ20+12) | BT20: =IF(BR20="","",BR20-((AT20-$AP$14)/365.25)) | BU20: =IF(BT20="","",IF(D20="U14",IF(BT20<12,"Ja","Nein"),IF(D20="U16",IF(BT20<14,"Ja","Nein")))) | BW20: =IF(BU20="","",IF(AN20="Ja",IF(BU20="Ja","Ja","Nein"),"Nein"))
A21: =IF('Daten aus Stufe 1'!A21="","",'Daten aus Stufe 1'!A21) | B21: =IF('Daten aus Stufe 1'!B21="","",'Daten aus Stufe 1'!B21) | C21: =IF('Daten aus Stufe 1'!C21="","",'Daten aus Stufe 1'!C21) | D21: =IF('Daten aus Stufe 1'!D21="","",'Daten aus Stufe 1'!D21) | E21: =IF('Daten aus Stufe 1'!E21="","",'Daten aus Stufe 1'!E21) | F21: =IF('Daten aus Stufe 1'!F21="","",'Daten aus Stufe 1'!F21) | G21: =IF('Daten aus Stufe 1'!G21="","",'Daten aus Stufe 1'!G21) | H21: =IF('Daten aus Stufe 1'!H21="","",'Daten aus Stufe 1'!H21) | I21: =IF('Daten aus Stufe 1'!I21="","",'Daten aus Stufe 1'!I21) | Z21: =IF(S21="","",S21-V21) | AA21: =IF(T21="","",T21-W21) | AB21: =IF(X21="","",U21-X21) | AD21: =IF(C21="","",(M21-C21)/365.25) | AE21: =IF(C21="","",AVERAGE(P21:R21)) | AF21: =IF(C21="","",AVERAGE(S21:U21)) | AG21: =IF(C21="","",AVERAGE(V21:X21)) | AH21: =IF(D21="","",AF21-AG21) | AJ21: =IF(AA21="","",-9.376+(0.0001882*AH21*AG21)+(0.0022*$AD21*AH21)+(0.005841*$AD21*AG21)-(0.002658*$AD21*AE21)+(0.07693*AE21/AF21*100)) | AK21: =IF(AJ21="","",AJ21+12) | AM21: =IF(AK21="","",AK21-((M21-$AP$14)/365.25)) | AN21: =IF(AM21="","",IF(D21="U14",IF(AM21<12,"Ja","Nein"),IF(D21="U16",IF(AM21<14,"Ja","Nein")))) | BG21: =IF(AZ21="","",AZ21-BC21) | BH21: =IF(BA21="","",BA21-BD21) | BI21: =IF(BE21="","",BB21-BE21) | BK21: =IF(AJ21="","",(AT21-C21)/365.25) | BL21: =IF(AJ21="","",AVERAGE(AW21:AY21)) | BM21: =IF(AJ21="","",AVERAGE(AZ21:BB21)) | BN21: =IF(AJ21="","",AVERAGE(BC21:BE21)) | BO21: =IF(AK21="","",BM21-BN21) | BQ21: =IF(AA21="","",-9.376+(0.0001882*BO21*BN21)+(0.0022*$AD21*BO21)+(0.005841*$AD21*BN21)-(0.002658*$AD21*BL21)+(0.07693*BL21/BM21*100)) | BR21: =IF(BQ21="","",BQ21+12) | BT21: =IF(BR21="","",BR21-((AT21-$AP$14)/365.25)) | BU21: =IF(BT21="","",IF(D21="U14",IF(BT21<12,"Ja","Nein"),IF(D21="U16",IF(BT21<14,"Ja","Nein")))) | BW21: =IF(BU21="","",IF(AN21="Ja",IF(BU21="Ja","Ja","Nein"),"Nein"))
A22: =IF('Daten aus Stufe 1'!A22="","",'Daten aus Stufe 1'!A22) | B22: =IF('Daten aus Stufe 1'!B22="","",'Daten aus Stufe 1'!B22) | C22: =IF('Daten aus Stufe 1'!C22="","",'Daten aus Stufe 1'!C22) | D22: =IF('Daten aus Stufe 1'!D22="","",'Daten aus Stufe 1'!D22) | E22: =IF('Daten aus Stufe 1'!E22="","",'Daten aus Stufe 1'!E22) | F22: =IF('Daten aus Stufe 1'!F22="","",'Daten aus Stufe 1'!F22) | G22: =IF('Daten aus Stufe 1'!G22="","",'Daten aus Stufe 1'!G22) | H22: =IF('Daten aus Stufe 1'!H22="","",'Daten aus Stufe 1'!H22) | I22: =IF('Daten aus Stufe 1'!I22="","",'Daten aus Stufe 1'!I22) | Z22: =IF(S22="","",S22-V22) | AA22: =IF(T22="","",T22-W22) | AB22: =IF(X22="","",U22-X22) | AD22: =IF(C22="","",(M22-C22)/365.25) | AE22: =IF(C22="","",AVERAGE(P22:R22)) | AF22: =IF(C22="","",AVERAGE(S22:U22)) | AG22: =IF(C22="","",AVERAGE(V22:X22)) | AH22: =IF(D22="","",AF22-AG22) | AJ22: =IF(AA22="","",-9.376+(0.0001882*AH22*AG22)+(0.0022*$AD22*AH22)+(0.005841*$AD22*AG22)-(0.002658*$AD22*AE22)+(0.07693*AE22/AF22*100)) | AK22: =IF(AJ22="","",AJ22+12) | AM22: =IF(AK22="","",AK22-((M22-$AP$14)/365.25)) | AN22: =IF(AM22="","",IF(D22="U14",IF(AM22<12,"Ja","Nein"),IF(D22="U16",IF(AM22<14,"Ja","Nein")))) | BG22: =IF(AZ22="","",AZ22-BC22) | BH22: =IF(BA22="","",BA22-BD22) | BI22: =IF(BE22="","",BB22-BE22) | BK22: =IF(AJ22="","",(AT22-C22)/365.25) | BL22: =IF(AJ22="","",AVERAGE(AW22:AY22)) | BM22: =IF(AJ22="","",AVERAGE(AZ22:BB22)) | BN22: =IF(AJ22="","",AVERAGE(BC22:BE22)) | BO22: =IF(AK22="","",BM22-BN22) | BQ22: =IF(AA22="","",-9.376+(0.0001882*BO22*BN22)+(0.0022*$AD22*BO22)+(0.005841*$AD22*BN22)-(0.002658*$AD22*BL22)+(0.07693*BL22/BM22*100)) | BR22: =IF(BQ22="","",BQ22+12) | BT22: =IF(BR22="","",BR22-((AT22-$AP$14)/365.25)) | BU22: =IF(BT22="","",IF(D22="U14",IF(BT22<12,"Ja","Nein"),IF(D22="U16",IF(BT22<14,"Ja","Nein")))) | BW22: =IF(BU22="","",IF(AN22="Ja",IF(BU22="Ja","Ja","Nein"),"Nein"))
A23: =IF('Daten aus Stufe 1'!A23="","",'Daten aus Stufe 1'!A23) | B23: =IF('Daten aus Stufe 1'!B23="","",'Daten aus Stufe 1'!B23) | C23: =IF('Daten aus Stufe 1'!C23="","",'Daten aus Stufe 1'!C23) | D23: =IF('Daten aus Stufe 1'!D23="","",'Daten aus Stufe 1'!D23) | E23: =IF('Daten aus Stufe 1'!E23="","",'Daten aus Stufe 1'!E23) | F23: =IF('Daten aus Stufe 1'!F23="","",'Daten aus Stufe 1'!F23) | G23: =IF('Daten aus Stufe 1'!G23="","",'Daten aus Stufe 1'!G23) | H23: =IF('Daten aus Stufe 1'!H23="","",'Daten aus Stufe 1'!H23) | I23: =IF('Daten aus Stufe 1'!I23="","",'Daten aus Stufe 1'!I23) | Z23: =IF(S23="","",S23-V23) | AA23: =IF(T23="","",T23-W23) | AB23: =IF(X23="","",U23-X23) | AD23: =IF(C23="","",(M23-C23)/365.25) | AE23: =IF(C23="","",AVERAGE(P23:R23)) | AF23: =IF(C23="","",AVERAGE(S23:U23)) | AG23: =IF(C23="","",AVERAGE(V23:X23)) | AH23: =IF(D23="","",AF23-AG23) | AJ23: =IF(AA23="","",-9.376+(0.0001882*AH23*AG23)+(0.0022*$AD23*AH23)+(0.005841*$AD23*AG23)-(0.002658*$AD23*AE23)+(0.07693*AE23/AF23*100)) | AK23: =IF(AJ23="","",AJ23+12) | AM23: =IF(AK23="","",AK23-((M23-$AP$14)/365.25)) | AN23: =IF(AM23="","",IF(D23="U14",IF(AM23<12,"Ja","Nein"),IF(D23="U16",IF(AM23<14,"Ja","Nein")))) | BG23: =IF(AZ23="","",AZ23-BC23) | BH23: =IF(BA23="","",BA23-BD23) | BI23: =IF(BE23="","",BB23-BE23) | BK23: =IF(AJ23="","",(AT23-C23)/365.25) | BL23: =IF(AJ23="","",AVERAGE(AW23:AY23)) | BM23: =IF(AJ23="","",AVERAGE(AZ23:BB23)) | BN23: =IF(AJ23="","",AVERAGE(BC23:BE23)) | BO23: =IF(AK23="","",BM23-BN23) | BQ23: =IF(AA23="","",-9.376+(0.0001882*BO23*BN23)+(0.0022*$AD23*BO23)+(0.005841*$AD23*BN23)-(0.002658*$AD23*BL23)+(0.07693*BL23/BM23*100)) | BR23: =IF(BQ23="","",BQ23+12) | BT23: =IF(BR23="","",BR23-((AT23-$AP$14)/365.25)) | BU23: =IF(BT23="","",IF(D23="U14",IF(BT23<12,"Ja","Nein"),IF(D23="U16",IF(BT23<14,"Ja","Nein")))) | BW23: =IF(BU23="","",IF(AN23="Ja",IF(BU23="Ja","Ja","Nein"),"Nein"))
A24: =IF('Daten aus Stufe 1'!A24="","",'Daten aus Stufe 1'!A24) | B24: =IF('Daten aus Stufe 1'!B24="","",'Daten aus Stufe 1'!B24) | C24: =IF('Daten aus Stufe 1'!C24="","",'Daten aus Stufe 1'!C24) | D24: =IF('Daten aus Stufe 1'!D24="","",'Daten aus Stufe 1'!D24) | E24: =IF('Daten aus Stufe 1'!E24="","",'Daten aus Stufe 1'!E24) | F24: =IF('Daten aus Stufe 1'!F24="","",'Daten aus Stufe 1'!F24) | G24: =IF('Daten aus Stufe 1'!G24="","",'Daten aus Stufe 1'!G24) | H24: =IF('Daten aus Stufe 1'!H24="","",'Daten aus Stufe 1'!H24) | I24: =IF('Daten aus Stufe 1'!I24="","",'Daten aus Stufe 1'!I24) | Z24: =IF(S24="","",S24-V24) | AA24: =IF(T24="","",T24-W24) | AB24: =IF(X24="","",U24-X24) | AD24: =IF(C24="","",(M24-C24)/365.25) | AE24: =IF(C24="","",AVERAGE(P24:R24)) | AF24: =IF(C24="","",AVERAGE(S24:U24)) | AG24: =IF(C24="","",AVERAGE(V24:X24)) | AH24: =IF(D24="","",AF24-AG24) | AJ24: =IF(AA24="","",-9.376+(0.0001882*AH24*AG24)+(0.0022*$AD24*AH24)+(0.005841*$AD24*AG24)-(0.002658*$AD24*AE24)+(0.07693*AE24/AF24*100)) | AK24: =IF(AJ24="","",AJ24+12) | AM24: =IF(AK24="","",AK24-((M24-$AP$14)/365.25)) | AN24: =IF(AM24="","",IF(D24="U14",IF(AM24<12,"Ja","Nein"),IF(D24="U16",IF(AM24<14,"Ja","Nein")))) | BG24: =IF(AZ24="","",AZ24-BC24) | BH24: =IF(BA24="","",BA24-BD24) | BI24: =IF(BE24="","",BB24-BE24) | BK24: =IF(AJ24="","",(AT24-C24)/365.25) | BL24: =IF(AJ24="","",AVERAGE(AW24:AY24)) | BM24: =IF(AJ24="","",AVERAGE(AZ24:BB24)) | BN24: =IF(AJ24="","",AVERAGE(BC24:BE24)) | BO24: =IF(AK24="","",BM24-BN24) | BQ24: =IF(AA24="","",-9.376+(0.0001882*BO24*BN24)+(0.0022*$AD24*BO24)+(0.005841*$AD24*BN24)-(0.002658*$AD24*BL24)+(0.07693*BL24/BM24*100)) | BR24: =IF(BQ24="","",BQ24+12) | BT24: =IF(BR24="","",BR24-((AT24-$AP$14)/365.25)) | BU24: =IF(BT24="","",IF(D24="U14",IF(BT24<12,"Ja","Nein"),IF(D24="U16",IF(BT24<14,"Ja","Nein")))) | BW24: =IF(BU24="","",IF(AN24="Ja",IF(BU24="Ja","Ja","Nein"),"Nein"))
A25: =IF('Daten aus Stufe 1'!A25="","",'Daten aus Stufe 1'!A25) | B25: =IF('Daten aus Stufe 1'!B25="","",'Daten aus Stufe 1'!B25) | C25: =IF('Daten aus Stufe 1'!C25="","",'Daten aus Stufe 1'!C25) | D25: =IF('Daten aus Stufe 1'!D25="","",'Daten aus Stufe 1'!D25) | E25: =IF('Daten aus Stufe 1'!E25="","",'Daten aus Stufe 1'!E25) | F25: =IF('Daten aus Stufe 1'!F25="","",'Daten aus Stufe 1'!F25) | G25: =IF('Daten aus Stufe 1'!G25="","",'Daten aus Stufe 1'!G25) | H25: =IF('Daten aus Stufe 1'!H25="","",'Daten aus Stufe 1'!H25) | I25: =IF('Daten aus Stufe 1'!I25="","",'Daten aus Stufe 1'!I25) | Z25: =IF(S25="","",S25-V25) | AA25: =IF(T25="","",T25-W25) | AB25: =IF(X25="","",U25-X25) | AD25: =IF(C25="","",(M25-C25)/365.25) | AE25: =IF(C25="","",AVERAGE(P25:R25)) | AF25: =IF(C25="","",AVERAGE(S25:U25)) | AG25: =IF(C25="","",AVERAGE(V25:X25)) | AH25: =IF(D25="","",AF25-AG25) | AJ25: =IF(AA25="","",-9.376+(0.0001882*AH25*AG25)+(0.0022*$AD25*AH25)+(0.005841*$AD25*AG25)-(0.002658*$AD25*AE25)+(0.07693*AE25/AF25*100)) | AK25: =IF(AJ25="","",AJ25+12) | AM25: =IF(AK25="","",AK25-((M25-$AP$14)/365.25)) | AN25: =IF(AM25="","",IF(D25="U14",IF(AM25<12,"Ja","Nein"),IF(D25="U16",IF(AM25<14,"Ja","Nein")))) | BG25: =IF(AZ25="","",AZ25-BC25) | BH25: =IF(BA25="","",BA25-BD25) | BI25: =IF(BE25="","",BB25-BE25) | BK25: =IF(AJ25="","",(AT25-C25)/365.25) | BL25: =IF(AJ25="","",AVERAGE(AW25:AY25)) | BM25: =IF(AJ25="","",AVERAGE(AZ25:BB25)) | BN25: =IF(AJ25="","",AVERAGE(BC25:BE25)) | BO25: =IF(AK25="","",BM25-BN25) | BQ25: =IF(AA25="","",-9.376+(0.0001882*BO25*BN25)+(0.0022*$AD25*BO25)+(0.005841*$AD25*BN25)-(0.002658*$AD25*BL25)+(0.07693*BL25/BM25*100)) | BR25: =IF(BQ25="","",BQ25+12) | BT25: =IF(BR25="","",BR25-((AT25-$AP$14)/365.25)) | BU25: =IF(BT25="","",IF(D25="U14",IF(BT25<12,"Ja","Nein"),IF(D25="U16",IF(BT25<14,"Ja","Nein")))) | BW25: =IF(BU25="","",IF(AN25="Ja",IF(BU25="Ja","Ja","Nein"),"Nein"))
A26: =IF('Daten aus Stufe 1'!A26="","",'Daten aus Stufe 1'!A26) | B26: =IF('Daten aus Stufe 1'!B26="","",'Daten aus Stufe 1'!B26) | C26: =IF('Daten aus Stufe 1'!C26="","",'Daten aus Stufe 1'!C26) | D26: =IF('Daten aus Stufe 1'!D26="","",'Daten aus Stufe 1'!D26) | E26: =IF('Daten aus Stufe 1'!E26="","",'Daten aus Stufe 1'!E26) | F26: =IF('Daten aus Stufe 1'!F26="","",'Daten aus Stufe 1'!F26) | G26: =IF('Daten aus Stufe 1'!G26="","",'Daten aus Stufe 1'!G26) | H26: =IF('Daten aus Stufe 1'!H26="","",'Daten aus Stufe 1'!H26) | I26: =IF('Daten aus Stufe 1'!I26="","",'Daten aus Stufe 1'!I26) | Z26: =IF(S26="","",S26-V26) | AA26: =IF(T26="","",T26-W26) | AB26: =IF(X26="","",U26-X26) | AD26: =IF(C26="","",(M26-C26)/365.25) | AE26: =IF(C26="","",AVERAGE(P26:R26)) | AF26: =IF(C26="","",AVERAGE(S26:U26)) | AG26: =IF(C26="","",AVERAGE(V26:X26)) | AH26: =IF(D26="","",AF26-AG26) | AJ26: =IF(AA26="","",-9.376+(0.0001882*AH26*AG26)+(0.0022*$AD26*AH26)+(0.005841*$AD26*AG26)-(0.002658*$AD26*AE26)+(0.07693*AE26/AF26*100)) | AK26: =IF(AJ26="","",AJ26+12) | AM26: =IF(AK26="","",AK26-((M26-$AP$14)/365.25)) | AN26: =IF(AM26="","",IF(D26="U14",IF(AM26<12,"Ja","Nein"),IF(D26="U16",IF(AM26<14,"Ja","Nein")))) | BG26: =IF(AZ26="","",AZ26-BC26) | BH26: =IF(BA26="","",BA26-BD26) | BI26: =IF(BE26="","",BB26-BE26) | BK26: =IF(AJ26="","",(AT26-C26)/365.25) | BL26: =IF(AJ26="","",AVERAGE(AW26:AY26)) | BM26: =IF(AJ26="","",AVERAGE(AZ26:BB26)) | BN26: =IF(AJ26="","",AVERAGE(BC26:BE26)) | BO26: =IF(AK26="","",BM26-BN26) | BQ26: =IF(AA26="","",-9.376+(0.0001882*BO26*BN26)+(0.0022*$AD26*BO26)+(0.005841*$AD26*BN26)-(0.002658*$AD26*BL26)+(0.07693*BL26/BM26*100)) | BR26: =IF(BQ26="","",BQ26+12) | BT26: =IF(BR26="","",BR26-((AT26-$AP$14)/365.25)) | BU26: =IF(BT26="","",IF(D26="U14",IF(BT26<12,"Ja","Nein"),IF(D26="U16",IF(BT26<14,"Ja","Nein")))) | BW26: =IF(BU26="","",IF(AN26="Ja",IF(BU26="Ja","Ja","Nein"),"Nein"))
A27: =IF('Daten aus Stufe 1'!A27="","",'Daten aus Stufe 1'!A27) | B27: =IF('Daten aus Stufe 1'!B27="","",'Daten aus Stufe 1'!B27) | C27: =IF('Daten aus Stufe 1'!C27="","",'Daten aus Stufe 1'!C27) | D27: =IF('Daten aus Stufe 1'!D27="","",'Daten aus Stufe 1'!D27) | E27: =IF('Daten aus Stufe 1'!E27="","",'Daten aus Stufe 1'!E27) | F27: =IF('Daten aus Stufe 1'!F27="","",'Daten aus Stufe 1'!F27) | G27: =IF('Daten aus Stufe 1'!G27="","",'Daten aus Stufe 1'!G27) | H27: =IF('Daten aus Stufe 1'!H27="","",'Daten aus Stufe 1'!H27) | I27: =IF('Daten aus Stufe 1'!I27="","",'Daten aus Stufe 1'!I27) | Z27: =IF(S27="","",S27-V27) | AA27: =IF(T27="","",T27-W27) | AB27: =IF(X27="","",U27-X27) | AD27: =IF(C27="","",(M27-C27)/365.25) | AE27: =IF(C27="","",AVERAGE(P27:R27)) | AF27: =IF(C27="","",AVERAGE(S27:U27)) | AG27: =IF(C27="","",AVERAGE(V27:X27)) | AH27: =IF(D27="","",AF27-AG27) | AJ27: =IF(AA27="","",-9.376+(0.0001882*AH27*AG27)+(0.0022*$AD27*AH27)+(0.005841*$AD27*AG27)-(0.002658*$AD27*AE27)+(0.07693*AE27/AF27*100)) | AK27: =IF(AJ27="","",AJ27+12) | AM27: =IF(AK27="","",AK27-((M27-$AP$14)/365.25)) | AN27: =IF(AM27="","",IF(D27="U14",IF(AM27<12,"Ja","Nein"),IF(D27="U16",IF(AM27<14,"Ja","Nein")))) | BG27: =IF(AZ27="","",AZ27-BC27) | BH27: =IF(BA27="","",BA27-BD27) | BI27: =IF(BE27="","",BB27-BE27) | BK27: =IF(AJ27="","",(AT27-C27)/365.25) | BL27: =IF(AJ27="","",AVERAGE(AW27:AY27)) | BM27: =IF(AJ27="","",AVERAGE(AZ27:BB27)) | BN27: =IF(AJ27="","",AVERAGE(BC27:BE27)) | BO27: =IF(AK27="","",BM27-BN27) | BQ27: =IF(AA27="","",-9.376+(0.0001882*BO27*BN27)+(0.0022*$AD27*BO27)+(0.005841*$AD27*BN27)-(0.002658*$AD27*BL27)+(0.07693*BL27/BM27*100)) | BR27: =IF(BQ27="","",BQ27+12) | BT27: =IF(BR27="","",BR27-((AT27-$AP$14)/365.25)) | BU27: =IF(BT27="","",IF(D27="U14",IF(BT27<12,"Ja","Nein"),IF(D27="U16",IF(BT27<14,"Ja","Nein")))) | BW27: =IF(BU27="","",IF(AN27="Ja",IF(BU27="Ja","Ja","Nein"),"Nein"))
... A150: =IF('Daten aus Stufe 1'!A150="","",'Daten aus Stufe 1'!A150) | B150: =IF('Daten aus Stufe 1'!B150="","",'Daten aus Stufe 1'!B150) | C150: =IF('Daten aus Stufe 1'!C150="","",'Daten aus Stufe 1'!C150) | D150: =IF('Daten aus Stufe 1'!D150="","",'Daten aus Stufe 1'!D150) | E150: =IF('Daten aus Stufe 1'!E150="","",'Daten aus Stufe 1'!E150) | F150: =IF('Daten aus Stufe 1'!F150="","",'Daten aus Stufe 1'!F150) | G150: =IF('Daten aus Stufe 1'!G150="","",'Daten aus Stufe 1'!G150) | H150: =IF('Daten aus Stufe 1'!H150="","",'Daten aus Stufe 1'!H150) | I150: =IF('Daten aus Stufe 1'!I150="","",'Daten aus Stufe 1'!I150) | Z150: =IF(S150="","",S150-V150) | AA150: =IF(T150="","",T150-W150) | AB150: =IF(X150="","",U150-X150) | AD150: =IF(C150="","",(M150-C150)/365.25) | AE150: =IF(C150="","",AVERAGE(P150:R150)) | AF150: =IF(C150="","",AVERAGE(S150:U150)) | AG150: =IF(C150="","",AVERAGE(V150:X150)) | AH150: =IF(D150="","",AF150-AG150) | AJ150: =IF(AA150="","",-9.376+(0.0001882*AH150*AG150)+(0.0022*$AD150*AH150)+(0.005841*$AD150*AG150)-(0.002658*$AD150*AE150)+(0.07693*AE150/AF150*100)) | AK150: =IF(AJ150="","",AJ150+12) | AM150: =IF(AK150="","",AK150-((M150-$AP$14)/365.25)) | AN150: =IF(AM150="","",IF(D150="U14",IF(AM150<12,"Ja","Nein"),IF(D150="U16",IF(AM150<14,"Ja","Nein")))) | BG150: =IF(AZ150="","",AZ150-BC150) | BH150: =IF(BA150="","",BA150-BD150) | BI150: =IF(BE150="","",BB150-BE150) | BK150: =IF(AJ150="","",(AT150-C150)/365.25) | BL150: =IF(AJ150="","",AVERAGE(AW150:AY150)) | BM150: =IF(AJ150="","",AVERAGE(AZ150:BB150)) | BN150: =IF(AJ150="","",AVERAGE(BC150:BE150)) | BO150: =IF(AK150="","",BM150-BN150) | BQ150: =IF(AA150="","",-9.376+(0.0001882*BO150*BN150)+(0.0022*$AD150*BO150)+(0.005841*$AD150*BN150)-(0.002658*$AD150*BL150)+(0.07693*BL150/BM150*100)) | BR150: =IF(BQ150="","",BQ150+12) | BT150: =IF(BR150="","",BR150-((AT150-$AP$14)/365.25)) | BU150: =IF(BT150="","",IF(D150="U14",IF(BT150<12,"Ja","Nein"),IF(D150="U16",IF(BT150<14,"Ja","Nein")))) | BW150: =IF(BU150="","",IF(AN150="Ja",IF(BU150="Ja","Ja","Nein"),"Nein"))

Sheet Aufteilung Trainingsgruppen
A1: ID | B1: Vorname | C1: Name | D1: Geburtsdatum | E1: Altersklasse | F1: Spielposition | G1: Ethnik | H1: Messdatum | I1: Uhrzeit der Messung | K1: TG nach Mirw | L1: TG nach KR | M1: TG nach Sono | O1: Vorschlag TG | P1: Finale TG? | Q1: 1=P1
A2: =IF(#REF!="","",#REF!) -> #REF! | B2: =IF(#REF!="","",#REF!) -> #REF! | C2: =IF(#REF!="","",#REF!) -> #REF! | D2: =IF(#REF!="","",#REF!) -> #REF! | E2: =IF(#REF!="","",#REF!) -> #REF! | F2: =IF(#REF!="","",#REF!) -> #REF! | G2: =IF(#REF!="","",#REF!) -> #REF! | H2: =IF(#REF!="","",#REF!) -> #REF! | I2: =IF(#REF!="","",#REF!) -> #REF! | K2: =IF(#REF!="","",#REF!) -> #REF! | L2: =IF(#REF!="","",#REF!) -> #REF! | M2: =IF(#REF!="","",#REF!) -> #REF! | O2: =IF(#REF!="","",#REF!) -> #REF! | P2: =IF(O2="Coach","",O2) -> #REF! | Q2: 2=P2
A3: =IF(#REF!="","",#REF!) -> #REF! | B3: =IF(#REF!="","",#REF!) -> #REF! | C3: =IF(#REF!="","",#REF!) -> #REF! | D3: =IF(#REF!="","",#REF!) -> #REF! | E3: =IF(#REF!="","",#REF!) -> #REF! | F3: =IF(#REF!="","",#REF!) -> #REF! | G3: =IF(#REF!="","",#REF!) -> #REF! | H3: =IF(#REF!="","",#REF!) -> #REF! | I3: =IF(#REF!="","",#REF!) -> #REF! | K3: =IF(#REF!="","",#REF!) -> #REF! | L3: =IF(#REF!="","",#REF!) -> #REF! | M3: =IF(#REF!="","",#REF!) -> #REF! | O3: =IF(#REF!="","",#REF!) -> #REF! | P3: =IF(O3="Coach","",O3) -> #REF! | Q3: 3=P3
A4: =IF(#REF!="","",#REF!) -> #REF! | B4: =IF(#REF!="","",#REF!) -> #REF! | C4: =IF(#REF!="","",#REF!) -> #REF! | D4: =IF(#REF!="","",#REF!) -> #REF! | E4: =IF(#REF!="","",#REF!) -> #REF! | F4: =IF(#REF!="","",#REF!) -> #REF! | G4: =IF(#REF!="","",#REF!) -> #REF! | H4: =IF(#REF!="","",#REF!) -> #REF! | I4: =IF(#REF!="","",#REF!) -> #REF! | K4: =IF(#REF!="","",#REF!) -> #REF! | L4: =IF(#REF!="","",#REF!) -> #REF! | M4: =IF(#REF!="","",#REF!) -> #REF! | O4: =IF(#REF!="","",#REF!) -> #REF! | P4: =IF(O4="Coach","",O4) -> #REF!
A5: =IF(#REF!="","",#REF!) -> #REF! | B5: =IF(#REF!="","",#REF!) -> #REF! | C5: =IF(#REF!="","",#REF!) -> #REF! | D5: =IF(#REF!="","",#REF!) -> #REF! | E5: =IF(#REF!="","",#REF!) -> #REF! | F5: =IF(#REF!="","",#REF!) -> #REF! | G5: =IF(#REF!="","",#REF!) -> #REF! | H5: =IF(#REF!="","",#REF!) -> #REF! | I5: =IF(#REF!="","",#REF!) -> #REF! | K5: =IF(#REF!="","",#REF!) -> #REF! | L5: =IF(#REF!="","",#REF!) -> #REF! | M5: =IF(#REF!="","",#REF!) -> #REF! | O5: =IF(#REF!="","",#REF!) -> #REF! | P5: =IF(O5="Coach","",O5) -> #REF!
A6: =IF(#REF!="","",#REF!) -> #REF! | B6: =IF(#REF!="","",#REF!) -> #REF! | C6: =IF(#REF!="","",#REF!) -> #REF! | D6: =IF(#REF!="","",#REF!) -> #REF! | E6: =IF(#REF!="","",#REF!) -> #REF! | F6: =IF(#REF!="","",#REF!) -> #REF! | G6: =IF(#REF!="","",#REF!) -> #REF! | H6: =IF(#REF!="","",#REF!) -> #REF! | I6: =IF(#REF!="","",#REF!) -> #REF! | K6: =IF(#REF!="","",#REF!) -> #REF! | L6: =IF(#REF!="","",#REF!) -> #REF! | M6: =IF(#REF!="","",#REF!) -> #REF! | O6: =IF(#REF!="","",#REF!) -> #REF! | P6: =IF(O6="Coach","",O6) -> #REF!
A7: =IF(#REF!="","",#REF!) -> #REF! | B7: =IF(#REF!="","",#REF!) -> #REF! | C7: =IF(#REF!="","",#REF!) -> #REF! | D7: =IF(#REF!="","",#REF!) -> #REF! | E7: =IF(#REF!="","",#REF!) -> #REF! | F7: =IF(#REF!="","",#REF!) -> #REF! | G7: =IF(#REF!="","",#REF!) -> #REF! | H7: =IF(#REF!="","",#REF!) -> #REF! | I7: =IF(#REF!="","",#REF!) -> #REF! | K7: =IF(#REF!="","",#REF!) -> #REF! | L7: =IF(#REF!="","",#REF!) -> #REF! | M7: =IF(#REF!="","",#REF!) -> #REF! | O7: =IF(#REF!="","",#REF!) -> #REF! | P7: =IF(O7="Coach","",O7) -> #REF!
A8: =IF(#REF!="","",#REF!) -> #REF! | B8: =IF(#REF!="","",#REF!) -> #REF! | C8: =IF(#REF!="","",#REF!) -> #REF! | D8: =IF(#REF!="","",#REF!) -> #REF! | E8: =IF(#REF!="","",#REF!) -> #REF! | F8: =IF(#REF!="","",#REF!) -> #REF! | G8: =IF(#REF!="","",#REF!) -> #REF! | H8: =IF(#REF!="","",#REF!) -> #REF! | I8: =IF(#REF!="","",#REF!) -> #REF! | K8: =IF(#REF!="","",#REF!) -> #REF! | L8: =IF(#REF!="","",#REF!) -> #REF! | M8: =IF(#REF!="","",#REF!) -> #REF! | O8: =IF(#REF!="","",#REF!) -> #REF! | P8: =IF(O8="Coach","",O8) -> #REF!
A9: =IF(#REF!="","",#REF!) -> #REF! | B9: =IF(#REF!="","",#REF!) -> #REF! | C9: =IF(#REF!="","",#REF!) -> #REF! | D9: =IF(#REF!="","",#REF!) -> #REF! | E9: =IF(#REF!="","",#REF!) -> #REF! | F9: =IF(#REF!="","",#REF!) -> #REF! | G9: =IF(#REF!="","",#REF!) -> #REF! | H9: =IF(#REF!="","",#REF!) -> #REF! | I9: =IF(#REF!="","",#REF!) -> #REF! | K9: =IF(#REF!="","",#REF!) -> #REF! | L9: =IF(#REF!="","",#REF!) -> #REF! | M9: =IF(#REF!="","",#REF!) -> #REF! | O9: =IF(#REF!="","",#REF!) -> #REF! | P9: =IF(O9="Coach","",O9) -> #REF!
A10: =IF(#REF!="","",#REF!) -> #REF! | B10: =IF(#REF!="","",#REF!) -> #REF! | C10: =IF(#REF!="","",#REF!) -> #REF! | D10: =IF(#REF!="","",#REF!) -> #REF! | E10: =IF(#REF!="","",#REF!) -> #REF! | F10: =IF(#REF!="","",#REF!) -> #REF! | G10: =IF(#REF!="","",#REF!) -> #REF! | H10: =IF(#REF!="","",#REF!) -> #REF! | I10: =IF(#REF!="","",#REF!) -> #REF! | K10: =IF(#REF!="","",#REF!) -> #REF! | L10: =IF(#REF!="","",#REF!) -> #REF! | M10: =IF(#REF!="","",#REF!) -> #REF! | O10: =IF(#REF!="","",#REF!) -> #REF! | P10: =IF(O10="Coach","",O10) -> #REF!
A11: =IF(#REF!="","",#REF!) -> #REF! | B11: =IF(#REF!="","",#REF!) -> #REF! | C11: =IF(#REF!="","",#REF!) -> #REF! | D11: =IF(#REF!="","",#REF!) -> #REF! | E11: =IF(#REF!="","",#REF!) -> #REF! | F11: =IF(#REF!="","",#REF!) -> #REF! | G11: =IF(#REF!="","",#REF!) -> #REF! | H11: =IF(#REF!="","",#REF!) -> #REF! | I11: =IF(#REF!="","",#REF!) -> #REF! | K11: =IF(#REF!="","",#REF!) -> #REF! | L11: =IF(#REF!="","",#REF!) -> #REF! | M11: =IF(#REF!="","",#REF!) -> #REF! | O11: =IF(#REF!="","",#REF!) -> #REF! | P11: =IF(O11="Coach","",O11) -> #REF!
A12: =IF(#REF!="","",#REF!) -> #REF! | B12: =IF(#REF!="","",#REF!) -> #REF! | C12: =IF(#REF!="","",#REF!) -> #REF! | D12: =IF(#REF!="","",#REF!) -> #REF! | E12: =IF(#REF!="","",#REF!) -> #REF! | F12: =IF(#REF!="","",#REF!) -> #REF! | G12: =IF(#REF!="","",#REF!) -> #REF! | H12: =IF(#REF!="","",#REF!) -> #REF! | I12: =IF(#REF!="","",#REF!) -> #REF! | K12: =IF(#REF!="","",#REF!) -> #REF! | L12: =IF(#REF!="","",#REF!) -> #REF! | M12: =IF(#REF!="","",#REF!) -> #REF! | O12: =IF(#REF!="","",#REF!) -> #REF! | P12: =IF(O12="Coach","",O12) -> #REF!
A13: =IF(#REF!="","",#REF!) -> #REF! | B13: =IF(#REF!="","",#REF!) -> #REF! | C13: =IF(#REF!="","",#REF!) -> #REF! | D13: =IF(#REF!="","",#REF!) -> #REF! | E13: =IF(#REF!="","",#REF!) -> #REF! | F13: =IF(#REF!="","",#REF!) -> #REF! | G13: =IF(#REF!="","",#REF!) -> #REF! | H13: =IF(#REF!="","",#REF!) -> #REF! | I13: =IF(#REF!="","",#REF!) -> #REF! | K13: =IF(#REF!="","",#REF!) -> #REF! | L13: =IF(#REF!="","",#REF!) -> #REF! | M13: =IF(#REF!="","",#REF!) -> #REF! | O13: =IF(#REF!="","",#REF!) -> #REF! | P13: =IF(O13="Coach","",O13) -> #REF!
A14: =IF(#REF!="","",#REF!) -> #REF! | B14: =IF(#REF!="","",#REF!) -> #REF! | C14: =IF(#REF!="","",#REF!) -> #REF! | D14: =IF(#REF!="","",#REF!) -> #REF! | E14: =IF(#REF!="","",#REF!) -> #REF! | F14: =IF(#REF!="","",#REF!) -> #REF! | G14: =IF(#REF!="","",#REF!) -> #REF! | H14: =IF(#REF!="","",#REF!) -> #REF! | I14: =IF(#REF!="","",#REF!) -> #REF! | K14: =IF(#REF!="","",#REF!) -> #REF! | L14: =IF(#REF!="","",#REF!) -> #REF! | M14: =IF(#REF!="","",#REF!) -> #REF! | O14: =IF(#REF!="","",#REF!) -> #REF! | P14: =IF(O14="Coach","",O14) -> #REF!
A15: =IF(#REF!="","",#REF!) -> #REF! | B15: =IF(#REF!="","",#REF!) -> #REF! | C15: =IF(#REF!="","",#REF!) -> #REF! | D15: =IF(#REF!="","",#REF!) -> #REF! | E15: =IF(#REF!="","",#REF!) -> #REF! | F15: =IF(#REF!="","",#REF!) -> #REF! | G15: =IF(#REF!="","",#REF!) -> #REF! | H15: =IF(#REF!="","",#REF!) -> #REF! | I15: =IF(#REF!="","",#REF!) -> #REF! | K15: =IF(#REF!="","",#REF!) -> #REF! | L15: =IF(#REF!="","",#REF!) -> #REF! | M15: =IF(#REF!="","",#REF!) -> #REF! | O15: =IF(#REF!="","",#REF!) -> #REF! | P15: =IF(O15="Coach","",O15) -> #REF!
... A69: =IF(#REF!="","",#REF!) -> #REF! | B69: =IF(#REF!="","",#REF!) -> #REF! | C69: =IF(#REF!="","",#REF!) -> #REF! | D69: =IF(#REF!="","",#REF!) -> #REF! | E69: =IF(#REF!="","",#REF!) -> #REF! | F69: =IF(#REF!="","",#REF!) -> #REF! | G69: =IF(#REF!="","",#REF!) -> #REF! | H69: =IF(#REF!="","",#REF!) -> #REF! | I69: =IF(#REF!="","",#REF!) -> #REF! | K69: =IF(#REF!="","",#REF!) -> #REF! | L69: =IF(#REF!="","",#REF!) -> #REF! | M69: =IF(#REF!="","",#REF!) -> #REF! | O69: =IF(#REF!="","",#REF!) -> #REF! | P69: =IF(O69="Coach","",O69) -> #REF!
A70: =IF(#REF!="","",#REF!) -> #REF!
A71: =IF(#REF!="","",#REF!) -> #REF!
A72: =IF(#REF!="","",#REF!) -> #REF!
A73: =IF(#REF!="","",#REF!) -> #REF!
A74: =IF(#REF!="","",#REF!) -> #REF!
A75: =IF(#REF!="","",#REF!) -> #REF!
A76: =IF(#REF!="","",#REF!) -> #REF!
A77: =IF(#REF!="","",#REF!) -> #REF!
A78: =IF(#REF!="","",#REF!) -> #REF!
A79: =IF(#REF!="","",#REF!) -> #REF!
A80: =IF(#REF!="","",#REF!) -> #REF!
A81: =IF(#REF!="","",#REF!) -> #REF!
... A88: =IF(#REF!="","",#REF!) -> #REF!
